BEGIN:VCALENDAR
VERSION:2.0
PRODID:-//The Seven Hills Chorus - ECPv6.15.18//NONSGML v1.0//EN
CALSCALE:GREGORIAN
METHOD:PUBLISH
X-ORIGINAL-URL:https://thesevenhillschorus.org
X-WR-CALDESC:Events for The Seven Hills Chorus
REFRESH-INTERVAL;VALUE=DURATION:PT1H
X-Robots-Tag:noindex
X-PUBLISHED-TTL:PT1H
BEGIN:VTIMEZONE
TZID:UTC
BEGIN:STANDARD
TZOFFSETFROM:+0000
TZOFFSETTO:+0000
TZNAME:UTC
DTSTART:20250101T000000
END:STANDARD
END:VTIMEZONE
BEGIN:VEVENT
DTSTART;TZID=UTC:20260502T190000
DTEND;TZID=UTC:20260502T210000
DTSTAMP:20260420T022025
CREATED:20260217T191300Z
LAST-MODIFIED:20260218T001159Z
UID:3200-1777748400-1777755600@thesevenhillschorus.org
SUMMARY:Songs of a Nation
DESCRIPTION:Celebrate 250 years of American music!  From early patriotic anthems to musical theater!  From gospel and spirituals to classical music by American composers!  This choral performance will have a multitude of American musical flavors to satisfy every artistic taste!  A true celebration of American music\, we also celebrate the people and people groups who have made this country’s exceptional music.  “American” music was composed and sung in the halls of great conservatories\, on the streets of Broadway\, on the trails which escaped slaves fled\, around campfires\, in churches grand and humble\, in the garage where a rock band rehearsed\, and in a small jazz club.  It has been made by both the rich and poor\, the black and white\, the loved and unloved\, the angry and peaceful. Come celebrate the songs and people of this nation with a chorus of 130 fabulous local vocalists! \nFeaturing: \n\nAllegro Voices\nCentral Virginia Community Choir Choral Ensemble\nDiamond Hill Baptist Church Singers & Musicians\nFamily Life Community Choir\n\nAt the Historic Academy Theater of the Arts in Downtown Lynchburg. \nOn May 2\, 2026 at 7 \nPurchase Tickets Here
URL:https://thesevenhillschorus.org/event/songs-of-a-nation/
LOCATION:Academy Center of the Arts\, 600 Main St.\, Lynchburg\, VA\, 24504\, United States
CATEGORIES:Performance
END:VEVENT
END:VCALENDAR